BEGIN:VCALENDAR
VERSION:2.0
PRODID:-//Plone.org//NONSGML plone.app.event//EN
X-WR-TIMEZONE:Europe/Copenhagen
BEGIN:VEVENT
SUMMARY:SWIM-Horizon 2020 SM - Regional on-site training on Decentralised 
 Water Management and Growth
DTSTART;TZID=Europe/Copenhagen;VALUE=DATE-TIME:20170724T090000
DTEND;TZID=Europe/Copenhagen;VALUE=DATE-TIME:20170725T181500
DTSTAMP;VALUE=DATE-TIME:20260421T193045Z
UID:905f79fd9c864bde9214a3b32be56d9f@eni-seis.eionet.europa.eu
CONTACT:SWIM/H2020 SM\, info@swim-h2020.eu\, http://www.swim-h2020.eu/
CREATED;VALUE=DATE-TIME:20170629T104429Z
LAST-MODIFIED;VALUE=DATE-TIME:20170629T104523Z
LOCATION:Brussels
URL:https://eni-seis.eionet.europa.eu/south/communication/events/related-e
 vents/swim-horizon-2020-sm-regional-on-site-training-on-decentralised-wate
 r-management-and-growth
END:VEVENT
BEGIN:VTIMEZONE
TZID:Europe/Copenhagen
X-LIC-LOCATION:Europe/Copenhagen
BEGIN:DAYLIGHT
DTSTART;VALUE=DATE-TIME:20170326T030000
TZNAME:CEST
TZOFFSETFROM:+0100
TZOFFSETTO:+0200
END:DAYLIGHT
END:VTIMEZONE
END:VCALENDAR
