BEGIN:VCALENDAR
VERSION:2.0
PRODID:-//Plone.org//NONSGML plone.app.event//EN
X-WR-TIMEZONE:Europe/Copenhagen
BEGIN:VEVENT
SUMMARY:2nd Workshop for the delineation of subdivisions relevant for MSFD
  assessments/reporting in the Mediterranean Sea
DTSTART;VALUE=DATE:20180220
DTEND;VALUE=DATE:20180221
DTSTAMP;VALUE=DATE-TIME:20260421T181324Z
UID:1bc36c1b157b46aa9b22bf9510458ac7@eni-seis.eionet.europa.eu
CONTACT:co-organised by DG ENV\, EEA\, HCMR/MEDCIS project
CREATED;VALUE=DATE-TIME:20180116T162535Z
LAST-MODIFIED;VALUE=DATE-TIME:20180116T162544Z
LOCATION:Divani Acropolis Hotel\, Parthenonos 19-25\, Athens
URL:https://eni-seis.eionet.europa.eu/south/communication/events/related-e
 vents/2nd-workshop-for-the-delineation-of-subdivisions-relevant-for-msfd-a
 ssessments-reporting-in-the-mediterranean-sea
END:VEVENT
END:VCALENDAR
