BEGIN:VCALENDAR
VERSION:2.0
PRODID:-//Plone.org//NONSGML plone.app.event//EN
X-WR-TIMEZONE:Europe/Copenhagen
BEGIN:VEVENT
SUMMARY:ENI SEIS II South organises in-country support to Jordan - study t
 our on industrial waste water monitoring and Statistics\, 16-20 July 2018\
 , Vienna\, Austria
DTSTART;TZID=Europe/Copenhagen;VALUE=DATE-TIME:20180716T150000
DTEND;TZID=Europe/Copenhagen;VALUE=DATE-TIME:20180720T160000
DTSTAMP;VALUE=DATE-TIME:20260421T205113Z
UID:fcd8468f81484c5cad8b319b0397c2fe@eni-seis.eionet.europa.eu
CREATED;VALUE=DATE-TIME:20181009T130614Z
LAST-MODIFIED;VALUE=DATE-TIME:20190307T110528Z
URL:https://eni-seis.eionet.europa.eu/south/communication/events/project-r
 elated-events/study-tour-on-industrial-waste-water-monitoring-and-statisti
 cs
END:VEVENT
BEGIN:VTIMEZONE
TZID:Europe/Copenhagen
X-LIC-LOCATION:Europe/Copenhagen
BEGIN:DAYLIGHT
DTSTART;VALUE=DATE-TIME:20180325T030000
TZNAME:CEST
TZOFFSETFROM:+0100
TZOFFSETTO:+0200
END:DAYLIGHT
END:VTIMEZONE
END:VCALENDAR
