BEGIN:VCALENDAR
VERSION:2.0
PRODID:-//Plone.org//NONSGML plone.app.event//EN
X-WR-TIMEZONE:Europe/Copenhagen
BEGIN:VEVENT
SUMMARY:ENI SEIS II South Regional meeting on waste and Marine Litter and 
 UN environment /MAP  Ecosystem Approach Correspondence Group on Pollution 
 and Marine Litter
DTSTART;VALUE=DATE:20190404
DTEND;VALUE=DATE:20190406
DTSTAMP;VALUE=DATE-TIME:20210730T113043Z
UID:02c4fa6729e3463e953279cc7d50ab3e@eni-seis.eionet.europa.eu
CREATED;VALUE=DATE-TIME:20190206T115648Z
LAST-MODIFIED;VALUE=DATE-TIME:20190617T135851Z
URL:https://eni-seis.eionet.europa.eu/south/communication/events/project-r
 elated-events/eni-seis-ii-south-regional-meeting-on-waste-and-marine-litte
 r-and-un-environment-map-ecosystem-approach-correspondence-group-on-pollut
 ion-and-marine-litter
END:VEVENT
END:VCALENDAR
