BEGIN:VCALENDAR
VERSION:2.0
PRODID:-//Plone.org//NONSGML plone.app.event//EN
X-WR-TIMEZONE:Europe/Copenhagen
BEGIN:VEVENT
SUMMARY:3rd ENI SEIS II South Steering Committee  and 9th Horizon 2020 Rev
 iew and Monitoring group meeting
DTSTART;TZID=Europe/Copenhagen;VALUE=DATE-TIME:20181106T090000
DTEND;TZID=Europe/Copenhagen;VALUE=DATE-TIME:20181107T180000
DTSTAMP;VALUE=DATE-TIME:20210730T021521Z
UID:97902801d7ef4bfd94e86ed94614cfd2@eni-seis.eionet.europa.eu
CREATED;VALUE=DATE-TIME:20180320T153715Z
LAST-MODIFIED;VALUE=DATE-TIME:20190121T101103Z
URL:https://eni-seis.eionet.europa.eu/south/communication/events/project-r
 elated-events/3rd-eni-seis-ii-south-steering-committee-and-9th-horizon-202
 0-review-and-monitoring-group-meeting
END:VEVENT
BEGIN:VTIMEZONE
TZID:Europe/Copenhagen
X-LIC-LOCATION:Europe/Copenhagen
BEGIN:STANDARD
DTSTART;VALUE=DATE-TIME:20181028T020000
TZNAME:CET
TZOFFSETFROM:+0200
TZOFFSETTO:+0100
END:STANDARD
END:VTIMEZONE
END:VCALENDAR
