BEGIN:VCALENDAR
VERSION:2.0
PRODID:-//Plone.org//NONSGML plone.app.event//EN
X-WR-TIMEZONE:Europe/Copenhagen
BEGIN:VEVENT
SUMMARY:2nd ENI-SEIS II South Steering Committee Meeting and 8th meeting o
 f the Horizon 2020 Review and Monitoring (RM) Group
DTSTART;TZID=Europe/Copenhagen;VALUE=DATE-TIME:20171016T133000
DTEND;TZID=Europe/Copenhagen;VALUE=DATE-TIME:20171018T123000
DTSTAMP;VALUE=DATE-TIME:20210730T021323Z
UID:fb72ec66c5de4a6a85bef65914d65088@eni-seis.eionet.europa.eu
CREATED;VALUE=DATE-TIME:20170623T131234Z
LAST-MODIFIED;VALUE=DATE-TIME:20181018T131634Z
URL:https://eni-seis.eionet.europa.eu/south/communication/events/project-r
 elated-events/2nd-eni-seis-ii-south-steering-committee-meeting-and-8th-mee
 ting-of-the-horizon-2020-review-and-monitoring-rm-group
END:VEVENT
BEGIN:VTIMEZONE
TZID:Europe/Copenhagen
X-LIC-LOCATION:Europe/Copenhagen
BEGIN:DAYLIGHT
DTSTART;VALUE=DATE-TIME:20170326T030000
TZNAME:CEST
TZOFFSETFROM:+0100
TZOFFSETTO:+0200
END:DAYLIGHT
END:VTIMEZONE
END:VCALENDAR
