BEGIN:VCALENDAR
VERSION:2.0
PRODID:-//Plone.org//NONSGML plone.app.event//EN
X-WR-TIMEZONE:Europe/Copenhagen
BEGIN:VEVENT
SUMMARY:Country Visit Egypt - National Workshop ENI SEIS Phase II \, Cairo
 \, Egypt\, Nov 30 to Dec 1 2016
DTSTART;VALUE=DATE:20161130
DTEND;VALUE=DATE:20161202
DTSTAMP;VALUE=DATE-TIME:20260421T220714Z
UID:dbad25826ba04c7a95e7b7d11f35d579@eni-seis.eionet.europa.eu
CREATED;VALUE=DATE-TIME:20170208T143101Z
LAST-MODIFIED;VALUE=DATE-TIME:20171109T080342Z
URL:https://eni-seis.eionet.europa.eu/south/communication/events/project-r
 elated-events/1st-national-workshop-for-the-implementation-of-seis-phase-i
 i-project-cairo-egypt-nov-30-to-dec-1-2016
END:VEVENT
END:VCALENDAR
