BEGIN:VCALENDAR
VERSION:2.0
PRODID:-//Plone.org//NONSGML plone.app.event//EN
X-WR-TIMEZONE:Europe/Copenhagen
BEGIN:VEVENT
SUMMARY:Regional water workshop - sharing knowledge and experiences on dev
 eloping the indicator and indicator-based assessment in Eastern Europe and
  the Caucasus Region
DTSTART;TZID=Europe/Copenhagen;VALUE=DATE-TIME:20181127T090000
DTEND;TZID=Europe/Copenhagen;VALUE=DATE-TIME:20181128T180000
DTSTAMP;VALUE=DATE-TIME:20260421T213859Z
UID:d851bdf533da4c5fa90b86c243bfa865@eni-seis.eionet.europa.eu
CREATED;VALUE=DATE-TIME:20180920T140037Z
LAST-MODIFIED;VALUE=DATE-TIME:20200407T182204Z
URL:https://eni-seis.eionet.europa.eu/east/areas-of-work/communication/eve
 nts/project-related-events/workshop-on-assessing-preliminary-outputs-of-wa
 ter-indicator-development-in-eastern-and-caucasus-regions
END:VEVENT
BEGIN:VTIMEZONE
TZID:Europe/Copenhagen
X-LIC-LOCATION:Europe/Copenhagen
BEGIN:STANDARD
DTSTART;VALUE=DATE-TIME:20181028T020000
TZNAME:CET
TZOFFSETFROM:+0200
TZOFFSETTO:+0100
END:STANDARD
END:VTIMEZONE
END:VCALENDAR
