BEGIN:VCALENDAR
VERSION:2.0
PRODID:-//Plone.org//NONSGML plone.app.event//EN
X-WR-TIMEZONE:Europe/Copenhagen
BEGIN:VEVENT
SUMMARY:Webinar on State of Environment reports - SOER 2020 and  Danish St
 ate of the Environment webportal
DTSTART;TZID=Europe/Copenhagen;VALUE=DATE-TIME:20200423T140000
DTEND;TZID=Europe/Copenhagen;VALUE=DATE-TIME:20200423T150000
DTSTAMP;VALUE=DATE-TIME:20211013T170455Z
UID:7cae6af4dbb940e19c7c781d98d01ee7@eni-seis.eionet.europa.eu
CATEGORIES:results-capacity-building
CATEGORIES:featured-indicators-and-assessments
CREATED;VALUE=DATE-TIME:20200414T084224Z
LAST-MODIFIED;VALUE=DATE-TIME:20200724T144850Z
URL:https://eni-seis.eionet.europa.eu/east/areas-of-work/communication/eve
 nts/project-related-events/webinar-on-state-of-environment-reports-soer-20
 20-and-danish-state-of-the-environment-webportal
END:VEVENT
BEGIN:VTIMEZONE
TZID:Europe/Copenhagen
X-LIC-LOCATION:Europe/Copenhagen
BEGIN:DAYLIGHT
DTSTART;VALUE=DATE-TIME:20200329T030000
TZNAME:CEST
TZOFFSETFROM:+0100
TZOFFSETTO:+0200
END:DAYLIGHT
END:VTIMEZONE
END:VCALENDAR
