BEGIN:VCALENDAR
VERSION:2.0
PRODID:-//Plone.org//NONSGML plone.app.event//EN
X-WR-TIMEZONE:Europe/Copenhagen
BEGIN:VEVENT
SUMMARY:Training on water accounts in Azerbaijan
DTSTART;VALUE=DATE:20190529
DTEND;VALUE=DATE:20190530
DTSTAMP;VALUE=DATE-TIME:20260421T185037Z
UID:1ad3f19343dc4ed697c201cecc1eb811@eni-seis.eionet.europa.eu
CATEGORIES:results-capacity-building
CATEGORIES:featured-seea-progress
CREATED;VALUE=DATE-TIME:20190522T091833Z
LAST-MODIFIED;VALUE=DATE-TIME:20200625T100038Z
URL:https://eni-seis.eionet.europa.eu/east/areas-of-work/communication/eve
 nts/project-related-events/training-on-water-accounts-in-azerbaijan
END:VEVENT
END:VCALENDAR
