BEGIN:VCALENDAR
VERSION:2.0
PRODID:-//Plone.org//NONSGML plone.app.event//EN
X-WR-TIMEZONE:Europe/Copenhagen
BEGIN:VEVENT
SUMMARY:CLC feasibility mission to the Republic of Moldova
DTSTART;TZID=Europe/Copenhagen;VALUE=DATE-TIME:20170419T140000
DTEND;TZID=Europe/Copenhagen;VALUE=DATE-TIME:20170419T150000
DTSTAMP;VALUE=DATE-TIME:20260421T210447Z
UID:c6d57f907f5d4dd7ab449bd8ab27af7e@eni-seis.eionet.europa.eu
CATEGORIES:featured-land
CREATED;VALUE=DATE-TIME:20200512T083609Z
LAST-MODIFIED;VALUE=DATE-TIME:20200526T074857Z
URL:https://eni-seis.eionet.europa.eu/east/areas-of-work/communication/eve
 nts/project-related-events/seminar-and-visits-for-the-corine-land-cover-ma
 pping-activity
END:VEVENT
BEGIN:VTIMEZONE
TZID:Europe/Copenhagen
X-LIC-LOCATION:Europe/Copenhagen
BEGIN:DAYLIGHT
DTSTART;VALUE=DATE-TIME:20170326T030000
TZNAME:CEST
TZOFFSETFROM:+0100
TZOFFSETTO:+0200
END:DAYLIGHT
END:VTIMEZONE
END:VCALENDAR
