BEGIN:VCALENDAR
VERSION:2.0
PRODID:-//Plone.org//NONSGML plone.app.event//EN
X-WR-TIMEZONE:Europe/Copenhagen
BEGIN:VEVENT
SUMMARY:Regional workshop on State of environment report
DTSTART;VALUE=DATE:20191008
DTEND;VALUE=DATE:20191010
DTSTAMP;VALUE=DATE-TIME:20210515T090507Z
UID:5ce1a1ab6483411d98508cfc4b12d162@eni-seis.eionet.europa.eu
CATEGORIES:results-capacity-building
CATEGORIES:featured-indicators-and-assessments
CREATED;VALUE=DATE-TIME:20190425T124218Z
LAST-MODIFIED;VALUE=DATE-TIME:20200625T124634Z
URL:https://eni-seis.eionet.europa.eu/east/areas-of-work/communication/eve
 nts/project-related-events/regional-workshop-on-sharing-eionet-slovak-expe
 rtise-and-knowledge-on-the-environmental-assessments-under-eni-seis-ii-eas
 t-project
END:VEVENT
END:VCALENDAR
