BEGIN:VCALENDAR
VERSION:2.0
PRODID:-//Plone.org//NONSGML plone.app.event//EN
X-WR-TIMEZONE:Europe/Copenhagen
BEGIN:VEVENT
SUMMARY:Regional webinar on the State of Environment Report
DTSTART;TZID=Europe/Copenhagen;VALUE=DATE-TIME:20200618T100000
DTEND;TZID=Europe/Copenhagen;VALUE=DATE-TIME:20200618T120000
DTSTAMP;VALUE=DATE-TIME:20211013T170507Z
UID:80ee64f1bdd04b96a44e33be085f2e55@eni-seis.eionet.europa.eu
CATEGORIES:results-capacity-building
CREATED;VALUE=DATE-TIME:20200602T104903Z
LAST-MODIFIED;VALUE=DATE-TIME:20200616T075512Z
URL:https://eni-seis.eionet.europa.eu/east/areas-of-work/communication/eve
 nts/project-related-events/regional-webinar-on-the-state-of-environment-re
 port
END:VEVENT
BEGIN:VTIMEZONE
TZID:Europe/Copenhagen
X-LIC-LOCATION:Europe/Copenhagen
BEGIN:DAYLIGHT
DTSTART;VALUE=DATE-TIME:20200329T030000
TZNAME:CEST
TZOFFSETFROM:+0100
TZOFFSETTO:+0200
END:DAYLIGHT
END:VTIMEZONE
END:VCALENDAR
