BEGIN:VCALENDAR
VERSION:2.0
PRODID:-//Plone.org//NONSGML plone.app.event//EN
X-WR-TIMEZONE:Europe/Copenhagen
BEGIN:VEVENT
SUMMARY:EcoPortal workshop in Azerbaijan
DTSTART;VALUE=DATE:20200220
DTEND;VALUE=DATE:20200222
DTSTAMP;VALUE=DATE-TIME:20260421T223712Z
UID:9b9d9fffbe374eebad3f673e23b56065@eni-seis.eionet.europa.eu
CREATED;VALUE=DATE-TIME:20200306T101841Z
LAST-MODIFIED;VALUE=DATE-TIME:20200407T183339Z
URL:https://eni-seis.eionet.europa.eu/east/areas-of-work/communication/eve
 nts/project-related-events/ecoportal-meeting-in-azerbaijan
END:VEVENT
END:VCALENDAR
