BEGIN:VCALENDAR
VERSION:2.0
PRODID:-//Plone.org//NONSGML plone.app.event//EN
X-WR-TIMEZONE:Europe/Copenhagen
BEGIN:VEVENT
SUMMARY:Concluding event “Implementation of the Shared Environmental Inf
 ormation System principles and practices in the Eastern Partnership countr
 ies” (ENI SEIS II East) Project
DTSTART;TZID=Europe/Copenhagen;VALUE=DATE-TIME:20200625T130000
DTEND;TZID=Europe/Copenhagen;VALUE=DATE-TIME:20200625T150000
DTSTAMP;VALUE=DATE-TIME:20260421T200307Z
UID:628235f8ead34d4d87d8afe292402411@eni-seis.eionet.europa.eu
CREATED;VALUE=DATE-TIME:20200619T173020Z
LAST-MODIFIED;VALUE=DATE-TIME:20200626T082244Z
URL:https://eni-seis.eionet.europa.eu/east/areas-of-work/communication/eve
 nts/project-related-events/concluding-event-201cimplementation-of-the-shar
 ed-environmental-information-system-principles-and-practices-in-the-easter
 n-partnership-countries201d-eni-seis-ii-east-project
END:VEVENT
BEGIN:VTIMEZONE
TZID:Europe/Copenhagen
X-LIC-LOCATION:Europe/Copenhagen
BEGIN:DAYLIGHT
DTSTART;VALUE=DATE-TIME:20200329T030000
TZNAME:CEST
TZOFFSETFROM:+0100
TZOFFSETTO:+0200
END:DAYLIGHT
END:VTIMEZONE
END:VCALENDAR
