BEGIN:VCALENDAR
VERSION:2.0
PRODID:-//Plone.org//NONSGML plone.app.event//EN
X-WR-TIMEZONE:Europe/Copenhagen
BEGIN:VEVENT
SUMMARY:First webinar on State of Environment reports | 24/9/2019 14:00-15
 :00 CET
DTSTART;TZID=Europe/Copenhagen;VALUE=DATE-TIME:20190924T140000
DTEND;TZID=Europe/Copenhagen;VALUE=DATE-TIME:20190924T150000
DTSTAMP;VALUE=DATE-TIME:20260421T200303Z
UID:79cc19c6c7674f3f807bbe94e5de6916@eni-seis.eionet.europa.eu
CATEGORIES:results-capacity-building
CATEGORIES:featured-indicators-and-assessments
CREATED;VALUE=DATE-TIME:20190902T061246Z
LAST-MODIFIED;VALUE=DATE-TIME:20200625T124647Z
URL:https://eni-seis.eionet.europa.eu/east/areas-of-work/communication/eve
 nts/project-related-events/24-9-2018-14-00-15-00-cet-first-webinar-on-stat
 e-of-environment-reports
END:VEVENT
BEGIN:VTIMEZONE
TZID:Europe/Copenhagen
X-LIC-LOCATION:Europe/Copenhagen
BEGIN:DAYLIGHT
DTSTART;VALUE=DATE-TIME:20190331T030000
TZNAME:CEST
TZOFFSETFROM:+0100
TZOFFSETTO:+0200
END:DAYLIGHT
END:VTIMEZONE
END:VCALENDAR
